BEGIN:VCALENDAR
VERSION:2.0
PRODID:-//Nida Kajaki - ECPv4.5.5//NONSGML v1.0//EN
CALSCALE:GREGORIAN
METHOD:PUBLISH
X-WR-CALNAME:Nida Kajaki
X-ORIGINAL-URL:http://nidakajaki.pl
X-WR-CALDESC:Events for Nida Kajaki
BEGIN:VEVENT
DTSTART;TZID=Europe/Warsaw:20160618T120000
DTEND;TZID=Europe/Warsaw:20160618T180000
DTSTAMP:20260419T223741
CREATED:20160611T193633Z
LAST-MODIFIED:20160615T171621Z
UID:849-1466251200-1466272800@nidakajaki.pl
SUMMARY:Spływ Morawica - Wolica
DESCRIPTION:Trasa nr 3 Morawica-Wolica \n\n\n\n\nSobota 18.06 o godzinie 12.00 odbędzie się spływ na trasie nr 3 Morawica-Wolica \n\n\n<><><><><><><><><><><><><><><><><><><><><><><><><><><><><><><><> \n\n\n\n\nTrasa nr 3: Morawica – Wolica : długość trasy spływu- 15\,9 km\, czas spływu – 5 godz. \n<><><><><><><><><><><><><><><><><><><><><><><><><><><><><><><><> \n\n\n\n\n1) Sobota 18.06.2016 godzina 10.00 \nTrasa nr 3 Morawica-Wolica\n<><><><><><><><><><><><><><><><><><><><><><><><><><><><><><><><>\n \nSzczegóły spływu poniżej:\nkoordynaty można wrzucić do google maps  \n*************************************************************************************** \n\n\n\nkm\nTrasa nr 3\nO P I S\n\n\n0\,0 km\nStart Morawica\nUwaga!\nMorawica – N50° 44′ 57”\, E20° 37′ 07” – za mostem na drodze krajowej nr 73 Kielce – Chmielnik – Busko\, obok bezpłatnego parkingu\, młyna wodnego i szpitala Dobre warunki do wodowania kajaków. Trasa bardzo kręta i wymaga od kajakarzy pełnego zaangażowania\, refleksu i uwagi\, a także umiejętności omijania znajdujących się nisko nad wodą\, powalonych drzew lub pochylenia głowy przed zbliżaniem się do konarów. Uwaga! W kajaku unikamy przechylania się na boki\, gdyż grozi to wywróceniem się kajaka. Zawsze pochylamy się do przodu.\n\n\n3\,9 km\n \nNida – gm. Morawica- trzytorowy\, stalowy\, duży most kolejowy Kielce-Busko.\n\n\n5\,0 km\n \nNida – po prawej stronie wieś Nida ciągnąca się przez ok. 4 km .\n\n\n7\,0 km\n \nNida – kładka przez rzekę dla pieszych oraz rowerów /odcinek szlaku rowerowego Nida –Chałupki Zbrzańskie\, gm. Morawica/.\n\n\n7\,9 km\nUwaga!\nNida/Golęciny – dno rzeki pokryte wyboistymi kamieniami w celu jej spłycenia. Uwaga! Tu dochodzi do wywracania lub zaklinowania się kajaków. Jest to najniebezpieczniejsze miejsce na tej trasie. Przypomina się o konieczności starannego zabezpieczenia przed wypadnięciem i zamoczeniem dokumentów\, telefonów\, aparatów itp. Każdy kajakarz musi liczyć się z tym\, że może zdarzyć się wywrotka. Pamiętajmy o konieczności włożenia butów dobrze trzymających się na nogach (tenisówki\, trampki\, sandały). W tym miejscu jest przejazd\, bezpośrednio przez rzekę\, dla ciągników. W odległości 20 m\, po lewej stronie rzeki – zabudowania wsi Golęciny-Ostrów\, gm. Chęciny\, dojście do Ptasiego Azylu ok. 400 m. W odległości ok. 0\,5 km\, wzdłuż prawego brzegu rzeki\, ciągnie się wieś Nida. W szczególnych przypadkach tu można zakończyć spływ\, informując telefonicznie wypożyczającego sprzęt.\n\n\n8\,5 km\nUwaga!\nNida – kładka przez rzekę dla pieszych. Tuż przed kładką głębokość wody po prawej stronie rzeki wynosi około 2 m. W zakolu rzeki\, poza głównym jej nurtem\, występują wiry rzeczne. Nie wpływamy w zakola rzeki.\n\n\n11\,2 km\n\nOstrów – most drogowy /Nida-Ostrów-Wolica/. Jest to również jedna z met spływów kajakowych. W szczególnych przypadkach\, tuż przed mostem\, można zakończyć spływ\, informując telefonicznie wypożyczającego sprzęt.\n\n\n14\,8 km\nUwaga\, skręcamy w lewo!\nZa Ostrowem most kolejowy Kielce – Sędziszów. Ważne – ok. 200 m za mostem rozwidlenie rzeki. Skręcamy w lewo!Płyniemy lewą odnogą Czarnej Nidy. Prawa odnoga to zwężony ciek wodny z kamienistą tamą o dużym spadku\, którego nie da się przepłynąć kajakiem. W odległości około 1 km /w pobliżu Lipowicy/ do prawej odnogi Czarnej Nidy uchodzi Bobrza i po około 1 km odnogi Czarnej Nidy oraz Bobrza łączą się.\n\n\n15\,9 km\nMeta Wolica\nWolica – N50°45’27”\, E20°29’13” – meta po lewej stronie rzeki\, tuż przed młynem i spiętrzeniem wody – tamą.\n\n\n\n*************************************************************************************** \nDodatkowe informacje w linku poniżej:\nhttp://nidakajaki.pl/morawica-wolica/ \nCałkowita cena spływu:\n35 zł/osobę \n<><><><><><><><><><><><><><><><><><><><><><><><><><><><><><><><> \nSpływ zaczynamy w:\nMorawicy (N50° 44′ 57” E20° 37′ 07”)\,\nmost na drodze krajowej (DK73) Kielce-Busko Zdrój. \n*************************************************************************************** \nRezerwacje pod nr. telefonu: 666-605-508 \nlub mailowo: rezerwacja@nidakajaki.pl \n<><><><><><><><><><><><><><><><><><><><><><><><><><><><><><><><> \n\n\n\n\n
URL:http://nidakajaki.pl/event/splyw-morawica-wolica-3/
END:VEVENT
END:VCALENDAR