BEGIN:VCALENDAR
VERSION:2.0
PRODID:-//Nida Kajaki - ECPv4.5.5//NONSGML v1.0//EN
CALSCALE:GREGORIAN
METHOD:PUBLISH
X-WR-CALNAME:Nida Kajaki
X-ORIGINAL-URL:http://nidakajaki.pl
X-WR-CALDESC:Events for Nida Kajaki
BEGIN:VEVENT
DTSTART;TZID=Europe/Warsaw:20180723T100000
DTEND;TZID=Europe/Warsaw:20180723T150000
DTSTAMP:20260420T102304
CREATED:20180723T052137Z
LAST-MODIFIED:20180723T054034Z
UID:1274-1532340000-1532358000@nidakajaki.pl
SUMMARY:Spływ Morawica - Ostrów
DESCRIPTION:Trasa nr 2 Morawica-Ostrów\nW dalszym ciągu są wolne miejsca. \n\n\n\n\nPoniedziałek 23.07 o godzinie 10.00 odbędzie się spływ na trasie nr 2 Morawica-Ostrów \n\n\n<><><><><><><><><><><><><><><><><><><><><><><><><><><><><><><><> \n\n\n\n\nTrasa nr 2: Morawica – Ostrów : długość trasy spływu- 11\,2 km\, czas spływu około 3-4 godz. \n<><><><><><><><><><><><><><><><><><><><><><><><><><><><><><><><> \n\n\n\n\nSzczegóły spływu poniżej:\nkoordynaty można wrzucić do google maps  \n********************************************************************************* \n\n\n\n\n\nTrasa nr 2: Morawica – Ostrów: długość trasy spływu – 11\,2 km\, czas spływu – 4 godz. Trasa dla: początkujących\, fizycznie słabszych ale wytrwałych/najlepiej w zgranej grupie towarzyskiej/. Łatwiej jest płynąć przy lekko podwyższonym stanie wody.\n\n\nkm\nTrasa nr 2\nO P I S\n\n\n0\,0 km\nStart\nMorawica\nUwaga!\nMorawica – N50° 44′ 57”\, E20° 37′ 07” – za mostem na drodze krajowej nr 73 Kielce – Chmielnik – Busko\, obok bezpłatnego parkingu\, młyna wodnego i szpitala Dobre warunki do wodowania kajaków. Trasa bardzo kręta i wymaga od kajakarzy pełnego zaangażowania\, refleksu i uwagi\, a także umiejętności omijania znajdujących się nisko nad wodą\, powalonych drzew lub pochylenia głowy przed zbliżaniem się do konarów. Uwaga! W kajaku unikamy przechylania się na boki\, gdyż grozi to wywróceniem się kajaka. Zawsze pochylamy się do przodu.\n\n\n3\,9 km\n \nNida – gm. Morawica- trzytorowy\, stalowy\, duży most kolejowy Kielce-Busko.\n\n\n5\,0 km\n \nNida – po prawej stronie wieś Nida ciągnąca się przez ok. 4 km .\n\n\n6\,0 km\n Uwaga!\nZnak informacyjny „Duże kamienie” – powodujące spiętrzenie wody i  znaczne przyspieszenie nurtu rzecznego  na  długości ok.  2-5 m. Należy zachować szczególną ostrożność.\n\n\n7\,0 km\n \nNida – kładka przez rzekę dla pieszych oraz rowerów /odcinek szlaku rowerowego Nida –Chałupki Zbrzańskie\, gm. Morawica/.\n\n\n7\,9 km\nUwaga! Bardzo ważne!\nNida/Golęciny – dno rzeki pokryte wyboistymi kamieniami w celu jej spłycenia. Uwaga! Tu dochodzi do wywracania lub zaklinowania się kajaków. Jest to najniebezpieczniejsze miejsce na trasie. W przypadku niskiego stanu wody początkujący kajakarze powinni trzymać się prawego brzegu. Czeka ich jednak konieczność wyjścia z kajaka i przeciągnięcia go  2-3 m. Przy wyższym stanie wody przepłynięcie tego odcinka prawą stroną rzeki nie stanowi problemu. Doświadczeni kajakarze mogą płynąć zgodnie z nurtem rzeki ale po przepłynięciu brodu muszą natychmiast skierować kajak do prawego brzegu\, bo inaczej wpłyną w chaszcze i gałęzie drzew\, zwisające nisko nad wodą i wywrotka gwarantowana. Przypomina się o konieczności starannego zabezpieczenia przed wypadnięciem i zamoczeniem dokumentów\, telefonów\, aparatów itp. Każdy kajakarz musi liczyć się z tym\, że może zdarzyć się wywrotka. Pamiętajmy o konieczności włożenia butów dobrze trzymających się na nogach (tenisówki\, trampki\, sandały). W tym miejscu jest przejazd\, bezpośrednio przez rzekę\, dla ciągników. W odległości 20 m\, po lewej stronie rzeki – zabudowania wsi Golęciny – Ostrów\, gm. Chęciny\, dojście do Ptasiego Azylu ok. 400 m. W odległości ok. 0\,5 km\, wzdłuż prawego brzegu rzeki\, ciągnie się wieś Nida. W szczególnych przypadkach tu można zakończyć spływ\, informując telefonicznie wypożyczającego sprzęt.\n\n\n8\,5 km\nUwaga!\nNida – kładka przez rzekę dla pieszych. Tuż przed kładką głębokość wody po prawej stronie rzeki wynosi około 2 m. W zakolu rzeki\, poza głównym jej nurtem\, występują wiry rzeczne. Nie wpływamy w zakola rzeki.\n\n\n11\,2 km\nMeta Ostrów\nOstrów\, gm. Chęciny – N50° 45′ 26″\, E20° 31′ 28″ – po prawej stronie\, tuż przed mostem drogowym Nida-Ostrów.\n\n\n\n\nW najbliższej okolicy znajduje się park etnograficzny w Tokarni\, zamek królewski w Chęcinach oraz jaskinia Raj jedne z głównych atrakcji województwa świętokrzyskiego\, wszystkie atrakcje w obrębie 10 km i wszystkie warte zobaczenia. \nCałkowita cena spływu wraz z dostawą kajaków na miejsce:\n35 zł/osobę \n<><><><><><><><><><><><><><><><><><><><><><><><><><><><><><><><> \nRezerwacje: \nrezerwacja@nidakajaki.pl\nlub pod nr. telefonu: 666-605-508 \n<><><><><><><><><><><><><><><><><><><><><><><><><><><><><><><><> \n\n\n\n
URL:http://nidakajaki.pl/event/splyw-morawica-ostrow-5/
END:VEVENT
END:VCALENDAR