BEGIN:VCALENDAR
VERSION:2.0
PRODID:-//Nida Kajaki - ECPv4.5.5//NONSGML v1.0//EN
CALSCALE:GREGORIAN
METHOD:PUBLISH
X-WR-CALNAME:Nida Kajaki
X-ORIGINAL-URL:http://nidakajaki.pl
X-WR-CALDESC:Events for Nida Kajaki
BEGIN:VEVENT
DTSTART;TZID=Europe/Warsaw:20170826T100000
DTEND;TZID=Europe/Warsaw:20170826T160000
DTSTAMP:20260419T161724
CREATED:20170814T112435Z
LAST-MODIFIED:20170814T112435Z
UID:1133-1503741600-1503763200@nidakajaki.pl
SUMMARY:Spływ Kuby Młyny - Morawica (Nida)
DESCRIPTION:W dalszym ciągu istnieje możliwość rezerwacji kajaków na ten termin.\n\n\n\n\n\n\nW sobotę tj. 26.08 o godzinie 10.00 odbędzie się spływ na malowniczej trasie Kuby Młyny – Morawica  z możliwością przedłużenia trasy do miejscowości Nida \n\n\n<><><><><><><><><><><><><><><><><><><><><><><><><><><><><><><><> \n\n\n\n\nSzacunkowy czas spływu – 4- 5 godz. \n<><><><><><><><><><><><><><><><><><><><><><><><><><><><><><><><> \nSobota 26.08.2017 godzina 10.00 spotykamy się w miejscowości Kuby-Młyny przy drodze dojazdowej do Czarnej Nidy (współrzędne GPS 50.7692°N\, 20.6722°E\, lub Kuby – Młyny 8). Zostawiamy samochody przy skrzyżowaniu i udajemy się na zbiórkę w stronę rzeki (wskazujący znak w stronę szlaku kajakowego). \n\n\n\n\n<><><><><><><><><><><><><><><><><><><><><><><><><><><><><><><><> \nCałkowita cena spływu:\n35 zł/osobę \n<><><><><><><><><><><><><><><><><><><><><><><><><><><><><><><><> \nRezerwację przyjmujemy pod nr telefonu: 666-605-508 \n<><><><><><><><><><><><><><><><><><><><><><><><><><><><><><><><> \nZapraszamy również do polubienia naszej strony na facebooku:\nhttps://www.facebook.com/nidakajaki \n\n\n\n\n\n\n
URL:http://nidakajaki.pl/event/splyw-kuby-mlyny-morawica-nida/
END:VEVENT
END:VCALENDAR