BEGIN:VCALENDAR
VERSION:2.0
PRODID:-//Nida Kajaki - ECPv4.5.5//NONSGML v1.0//EN
CALSCALE:GREGORIAN
METHOD:PUBLISH
X-WR-CALNAME:Nida Kajaki
X-ORIGINAL-URL:http://nidakajaki.pl
X-WR-CALDESC:Events for Nida Kajaki
BEGIN:VEVENT
DTSTART;TZID=Europe/Warsaw:20150509T120000
DTEND;TZID=Europe/Warsaw:20150509T160000
DTSTAMP:20260419T215319
CREATED:20150507T175140Z
LAST-MODIFIED:20150507T180845Z
UID:702-1431172800-1431187200@nidakajaki.pl
SUMMARY:Inauguracja sezonu kajakowego:
DESCRIPTION:Trasa nr 2 Morawica-Ostrów\nW najbliższą sobotę tj. 9.05 o godzinie 12.00 inaugurujemy sezon kajakowy. \n<><><><><><><><><><><><><><><><><><><><><><><><><><><> \n1) Sobota 09.05.2014 godzina 12.00 \nTrasa nr 1. Morawica-Ostrów\ndługość trasy spływu – 11 km\, czas spływu – 4 godz.\nTrasa dla: początkujących\, fizycznie słabszych\, chętnych do zrelaksowania się.\n<><><><><><><><><><><><><><><><><><><><><><><><><><><> \nSzczegóły spływu poniżej:\nkoordynaty można wrzucić do google maps :) \n****************************************************************************\nSpotykamy się w Morawicy na miejscu początku spływu.\n(jak ktoś będzie miał problem z dotarciem to prosimy o kontakt pod nr. telefonu: 666-605-508\, a postaramy się coś wymyślić. \nTrasa nr 2: Morawica – Ostrów (11.2 km\, długość spływu 4 godziny) \n0.0 kilometr – start – Morawica (N50° 44′ 57” E20° 37′ 07”)\, \nmost na drodze krajowej (DK73) Kielce-Busko Zdrój. \nW okolicy sklepy\, dogodny bezpłatny parking tuż przy dawnym\nmłynie wodnym\, początkowo browarze wybudowanym w 1840\nroku. \nW miejscu tym znajdują się bardzo korzystne warunki do\nwodowania\, spokojne koryto rzeki z kilkoma szybszymi\nemocjonującymi odcinkami. \n3.9 kilometr – trójtorowy stalowy\, duży most kolejowy. \n7.0 kilometr – po stronie prawej: wieś Nida \n7.5 kilometr – kładka dla pieszych oraz rowerów \n7.9 kilometr – droga przez rzekę \n11.2 kilometr – most drogowy we wsi Ostrów (koniec trasy nr. 2) \nWięcej szczegółów na temat trasy w linku poniżej:\nhttp://nidakajaki.pl/morawica-ostrow-2/ \nhttps://www.facebook.com/events/1638883459676557/ \n**************************************************************************** \nCałkowita cena spływu wraz z dostawą kajaków na miejsce:\n35 zł/osobę!!! \n<><><><><><><><><><><><><><><><><><><><><><><><><><><> \nSpływ zaczynamy w:\nMorawicy (N50° 44′ 57” E20° 37′ 07”)\,\nmost na drodze krajowej (DK73) Kielce-Busko Zdrój. \n**************************************************************************** \nRezerwacje na:\nhttp://nidakajaki.pl/index.php/rezerwacja \nhttps://www.facebook.com/events/1638883459676557/ \nlub pod nr. telefonu: 666-605-508 \n<><><><><><><><><><><><><><><><><><><><><><><><><><><> \n  \n
URL:http://nidakajaki.pl/event/inauguracja-sezonu-kajakowego/
ORGANIZER;CN="nidakajaki.pl":MAILTO:rezerwacja@nidakajaki.pl
END:VEVENT
END:VCALENDAR